BEGIN:VCALENDAR
VERSION:2.0
PRODID:-//100 Black Men of the Bay Area, Inc. - ECPv6.15.20//NONSGML v1.0//EN
CALSCALE:GREGORIAN
METHOD:PUBLISH
X-WR-CALNAME:100 Black Men of the Bay Area, Inc.
X-ORIGINAL-URL:https://100blackmenba.org
X-WR-CALDESC:Events for 100 Black Men of the Bay Area, Inc.
REFRESH-INTERVAL;VALUE=DURATION:PT1H
X-Robots-Tag:noindex
X-PUBLISHED-TTL:PT1H
BEGIN:VTIMEZONE
TZID:America/Los_Angeles
BEGIN:DAYLIGHT
TZOFFSETFROM:-0800
TZOFFSETTO:-0700
TZNAME:PDT
DTSTART:20240310T100000
END:DAYLIGHT
BEGIN:STANDARD
TZOFFSETFROM:-0700
TZOFFSETTO:-0800
TZNAME:PST
DTSTART:20241103T090000
END:STANDARD
BEGIN:DAYLIGHT
TZOFFSETFROM:-0800
TZOFFSETTO:-0700
TZNAME:PDT
DTSTART:20250309T100000
END:DAYLIGHT
BEGIN:STANDARD
TZOFFSETFROM:-0700
TZOFFSETTO:-0800
TZNAME:PST
DTSTART:20251102T090000
END:STANDARD
BEGIN:DAYLIGHT
TZOFFSETFROM:-0800
TZOFFSETTO:-0700
TZNAME:PDT
DTSTART:20260308T100000
END:DAYLIGHT
BEGIN:STANDARD
TZOFFSETFROM:-0700
TZOFFSETTO:-0800
TZNAME:PST
DTSTART:20261101T090000
END:STANDARD
END:VTIMEZONE
BEGIN:VEVENT
DTSTART;TZID=America/Los_Angeles:20250426T080000
DTEND;TZID=America/Los_Angeles:20250426T150000
DTSTAMP:20260419T194415
CREATED:20250113T052025Z
LAST-MODIFIED:20250425T071015Z
UID:10000041-1745654400-1745679600@100blackmenba.org
SUMMARY:4th Annual Career Expo
DESCRIPTION:100 Black Men of the Bay Area has curated a platform to provide young adults with a road map toward life-sustaining career options. Join us and receive guidance from professionals in the following industries: \n\nBusiness and Entrepreneurship\nEducation\nFinancial Services\nHospitality and Culinary Arts\nInformation Technology\nLaw and Legal Services\nMedical\nPublic Services\nReal Estate\nSports and Entertainment\nTrades and Construction\n\nIn addition\, there will be job recruiters onsite offering jobs. Breakfast and lunch will be provided.  Swag bags will be given to those who register.  Registration is required: \n  \nSCAN OR CLICK HERE TO REGISTER TODAY!
URL:https://100blackmenba.org/event/4th-annual-career-expo/
LOCATION:Contra Costa College\, 2600 Mission Bell Drive (G225)\, San Pablo\, 94806
ATTACH;FMTTYPE=image/png:https://100blackmenba.org/wp-content/uploads/2025/04/100BMBA-Career-Expo-Poster-2025-BB-24-x-36-in-scaled.png
ORGANIZER;CN="100 Black Men of the Bay Area%2C Inc.":MAILTO:info@100blackmenba.org
END:VEVENT
END:VCALENDAR